BEGIN:VCALENDAR
VERSION:2.0
PRODID:-//Covid-19 Global Rheumatology Alliance - ECPv5.16.1.1//NONSGML v1.0//EN
CALSCALE:GREGORIAN
METHOD:PUBLISH
X-WR-CALNAME:Covid-19 Global Rheumatology Alliance
X-ORIGINAL-URL:https://rheum-covid.autoinflammatory.uk
X-WR-CALDESC:Events for Covid-19 Global Rheumatology Alliance
REFRESH-INTERVAL;VALUE=DURATION:PT1H
X-Robots-Tag:noindex
X-PUBLISHED-TTL:PT1H
BEGIN:VTIMEZONE
TZID:UTC
BEGIN:STANDARD
TZOFFSETFROM:+0000
TZOFFSETTO:+0000
TZNAME:UTC
DTSTART:20220101T000000
END:STANDARD
END:VTIMEZONE
BEGIN:VEVENT
DTSTART;TZID=UTC:20220620T110000
DTEND;TZID=UTC:20220620T120000
DTSTAMP:20260420T204135
CREATED:20220614T111213Z
LAST-MODIFIED:20220614T111213Z
UID:259-1655722800-1655726400@rheum-covid.autoinflammatory.uk
SUMMARY:Patient Board Meeting
DESCRIPTION:Weekly meeting of the Covid-19 Global Rheumatology Alliance’s Patient Board.
URL:https://rheum-covid.autoinflammatory.uk/event/patient-board-meeting/
LOCATION:Online Via Zoom\, Global
CATEGORIES:Patient Board
ATTACH;FMTTYPE=image/jpeg:https://rheum-covid.autoinflammatory.uk/wp-content/uploads/2022/06/Zoom-Video-Call-on-Computer-Screen-Cartoon.jpg
END:VEVENT
END:VCALENDAR