BEGIN:VCALENDAR
VERSION:2.0
PRODID:-//Covid-19 Global Rheumatology Alliance - ECPv5.16.1.1//NONSGML v1.0//EN
CALSCALE:GREGORIAN
METHOD:PUBLISH
X-WR-CALNAME:Covid-19 Global Rheumatology Alliance
X-ORIGINAL-URL:https://rheum-covid.autoinflammatory.uk
X-WR-CALDESC:Events for Covid-19 Global Rheumatology Alliance
REFRESH-INTERVAL;VALUE=DURATION:PT1H
X-Robots-Tag:noindex
X-PUBLISHED-TTL:PT1H
BEGIN:VTIMEZONE
TZID:UTC
BEGIN:STANDARD
TZOFFSETFROM:+0000
TZOFFSETTO:+0000
TZNAME:UTC
DTSTART:20220101T000000
END:STANDARD
END:VTIMEZONE
BEGIN:VEVENT
DTSTART;VALUE=DATE:20220810
DTEND;VALUE=DATE:20220815
DTSTAMP:20260423T193258
CREATED:20220614T113801Z
LAST-MODIFIED:20220614T113801Z
UID:283-1660089600-1660521599@rheum-covid.autoinflammatory.uk
SUMMARY:Emily Sirotich's post doctoral party (like it's 1999)
DESCRIPTION:It’s been years in preparation and it has now arrived.
URL:https://rheum-covid.autoinflammatory.uk/event/emily-sirotichs-post-doctoral-party-like-its-1999/
LOCATION:Burj Al Arab\, Dubai\, United Arab Emirates
ATTACH;FMTTYPE=image/jpeg:https://rheum-covid.autoinflammatory.uk/wp-content/uploads/2022/06/455551848_900e702ee6_b.jpg
END:VEVENT
END:VCALENDAR